Package: DelayedMatrixStats Version: 1.22.6 Command: rm -rf DelayedMatrixStats.buildbin-libdir && mkdir DelayedMatrixStats.buildbin-libdir && /Users/biocbuild/BBS/utils/build-universal.sh DelayedMatrixStats_1.22.6.tar.gz /Library/Frameworks/R.framework/Resources/bin/R DelayedMatrixStats.buildbin-libdir StartedAt: 2023-10-16 09:15:52 -0400 (Mon, 16 Oct 2023) EndedAt: 2023-10-16 09:17:02 -0400 (Mon, 16 Oct 2023) EllapsedTime: 70.4 seconds RetCode: 0 Status: OK PackageFile: DelayedMatrixStats_1.22.6.tgz PackageFileSize: 703.3 KiB