Package: DelayedDataFrame Version: 1.16.0 Command: chmod a+r DelayedDataFrame -R && F:\biocbuild\bbs-3.17-bioc\R\bin\R.exe CMD build --keep-empty-dirs --no-resave-data DelayedDataFrame StartedAt: 2023-10-15 18:39:15 -0400 (Sun, 15 Oct 2023) EndedAt: 2023-10-15 18:39:47 -0400 (Sun, 15 Oct 2023) EllapsedTime: 31.0 seconds RetCode: 0 Status: OK PackageFile: DelayedDataFrame_1.16.0.tar.gz PackageFileSize: 486.7 KiB