Package: DelayedDataFrame Version: 1.16.0 Command: rm -rf DelayedDataFrame.buildbin-libdir && mkdir DelayedDataFrame.buildbin-libdir && F:\biocbuild\bbs-3.17-bioc\R\bin\R.exe CMD INSTALL --build --library=DelayedDataFrame.buildbin-libdir DelayedDataFrame_1.16.0.tar.gz StartedAt: 2023-10-16 08:40:57 -0400 (Mon, 16 Oct 2023) EndedAt: 2023-10-16 08:41:19 -0400 (Mon, 16 Oct 2023) EllapsedTime: 21.8 seconds RetCode: 0 Status: OK PackageFile: DelayedDataFrame_1.16.0.zip PackageFileSize: 903.4 KiB