Package: DelayedDataFrame Version: 1.16.0 Command: /home/biocbuild/bbs-3.17-bioc/R/bin/R CMD INSTALL DelayedDataFrame StartedAt: 2023-10-15 15:11:06 -0400 (Sun, 15 Oct 2023) EndedAt: 2023-10-15 15:11:20 -0400 (Sun, 15 Oct 2023) EllapsedTime: 14.7 seconds RetCode: 0 Status: OK