Package: DelayedDataFrame Version: 1.16.0 Command: /Library/Frameworks/R.framework/Resources/bin/R CMD check --install=check:DelayedDataFrame.install-out.txt --library=/Library/Frameworks/R.framework/Resources/library --no-vignettes --timings DelayedDataFrame_1.16.0.tar.gz StartedAt: 2023-10-16 00:45:38 -0400 (Mon, 16 Oct 2023) EndedAt: 2023-10-16 00:49:57 -0400 (Mon, 16 Oct 2023) EllapsedTime: 258.3 seconds RetCode: 0 Status: OK CheckDir: DelayedDataFrame.Rcheck Warnings: 0