Package: DelayedArray Version: 0.26.7 Command: rm -rf DelayedArray.buildbin-libdir && mkdir DelayedArray.buildbin-libdir && F:\biocbuild\bbs-3.17-bioc\R\bin\R.exe CMD INSTALL --build --library=DelayedArray.buildbin-libdir DelayedArray_0.26.7.tar.gz StartedAt: 2023-10-16 08:40:55 -0400 (Mon, 16 Oct 2023) EndedAt: 2023-10-16 08:41:51 -0400 (Mon, 16 Oct 2023) EllapsedTime: 56.1 seconds RetCode: 0 Status: OK PackageFile: DelayedArray_0.26.7.zip PackageFileSize: 2.19 MiB