Package: DelayedArray Version: 0.26.7 Command: /home/biocbuild/bbs-3.17-bioc/R/bin/R CMD INSTALL DelayedArray StartedAt: 2023-10-15 15:10:40 -0400 (Sun, 15 Oct 2023) EndedAt: 2023-10-15 15:11:05 -0400 (Sun, 15 Oct 2023) EllapsedTime: 25.8 seconds RetCode: 0 Status: OK