Package: DelayedArray Version: 0.26.7 Command: /home/biocbuild/bbs-3.17-bioc/R/bin/R CMD check --install=check:DelayedArray.install-out.txt --library=/home/biocbuild/bbs-3.17-bioc/R/site-library --timings DelayedArray_0.26.7.tar.gz StartedAt: 2023-10-15 20:41:24 -0400 (Sun, 15 Oct 2023) EndedAt: 2023-10-15 20:54:26 -0400 (Sun, 15 Oct 2023) EllapsedTime: 782.3 seconds RetCode: 0 Status: WARNINGS CheckDir: DelayedArray.Rcheck Warnings: 2