Package: DelayedArray Version: 0.26.7 Command: /home/biocbuild/bbs-3.17-bioc/R/bin/R CMD build --keep-empty-dirs --no-resave-data DelayedArray StartedAt: 2023-10-15 16:32:58 -0400 (Sun, 15 Oct 2023) EndedAt: 2023-10-15 16:33:51 -0400 (Sun, 15 Oct 2023) EllapsedTime: 52.8 seconds RetCode: 0 Status: OK PackageFile: DelayedArray_0.26.7.tar.gz PackageFileSize: 613.7 KiB