Package: DelayedArray Version: 0.26.7 Command: /Library/Frameworks/R.framework/Resources/bin/R CMD INSTALL DelayedArray StartedAt: 2023-10-15 15:10:31 -0400 (Sun, 15 Oct 2023) EndedAt: 2023-10-15 15:11:27 -0400 (Sun, 15 Oct 2023) EllapsedTime: 56.0 seconds RetCode: 0 Status: OK