Package: DelayedArray Version: 0.26.7 Command: /Library/Frameworks/R.framework/Resources/bin/R CMD check --install=check:DelayedArray.install-out.txt --library=/Library/Frameworks/R.framework/Resources/library --no-vignettes --timings DelayedArray_0.26.7.tar.gz StartedAt: 2023-10-16 00:45:27 -0400 (Mon, 16 Oct 2023) EndedAt: 2023-10-16 01:23:37 -0400 (Mon, 16 Oct 2023) EllapsedTime: 2290.2 seconds RetCode: 0 Status: WARNINGS CheckDir: DelayedArray.Rcheck Warnings: 2