Package: DelayedArray Version: 0.26.7 Command: /Library/Frameworks/R.framework/Resources/bin/R CMD build --keep-empty-dirs --no-resave-data DelayedArray StartedAt: 2023-10-15 17:51:40 -0400 (Sun, 15 Oct 2023) EndedAt: 2023-10-15 17:54:07 -0400 (Sun, 15 Oct 2023) EllapsedTime: 146.3 seconds RetCode: 0 Status: OK PackageFile: DelayedArray_0.26.7.tar.gz PackageFileSize: 792.4 KiB