Package: DelayedArray Version: 0.26.7 Command: rm -rf DelayedArray.buildbin-libdir && mkdir DelayedArray.buildbin-libdir && /Users/biocbuild/BBS/utils/build-universal.sh DelayedArray_0.26.7.tar.gz /Library/Frameworks/R.framework/Resources/bin/R DelayedArray.buildbin-libdir StartedAt: 2023-10-16 09:15:49 -0400 (Mon, 16 Oct 2023) EndedAt: 2023-10-16 09:17:43 -0400 (Mon, 16 Oct 2023) EllapsedTime: 113.5 seconds RetCode: 0 Status: OK PackageFile: DelayedArray_0.26.7.tgz PackageFileSize: 2.364 MiB