Package: DeepPINCS Version: 1.8.3 Command: F:\biocbuild\bbs-3.17-bioc\R\bin\R.exe CMD INSTALL DeepPINCS StartedAt: 2023-10-15 17:00:17 -0400 (Sun, 15 Oct 2023) EndedAt: 2023-10-15 17:00:39 -0400 (Sun, 15 Oct 2023) EllapsedTime: 22.3 seconds RetCode: 0 Status: OK