Package: DeepPINCS Version: 1.8.3 Command: chmod a+r DeepPINCS -R && F:\biocbuild\bbs-3.17-bioc\R\bin\R.exe CMD build --keep-empty-dirs --no-resave-data DeepPINCS StartedAt: 2023-10-15 18:36:43 -0400 (Sun, 15 Oct 2023) EndedAt: 2023-10-15 18:41:00 -0400 (Sun, 15 Oct 2023) EllapsedTime: 257.1 seconds RetCode: 0 Status: OK PackageFile: DeepPINCS_1.8.3.tar.gz PackageFileSize: 3.029 MiB