Package: DeepPINCS Version: 1.8.3 Command: /home/biocbuild/bbs-3.17-bioc/R/bin/R CMD INSTALL DeepPINCS StartedAt: 2023-10-15 15:47:05 -0400 (Sun, 15 Oct 2023) EndedAt: 2023-10-15 15:47:21 -0400 (Sun, 15 Oct 2023) EllapsedTime: 16.2 seconds RetCode: 0 Status: OK