Package: DeepPINCS Version: 1.8.3 Command: /home/biocbuild/bbs-3.17-bioc/R/bin/R CMD check --install=check:DeepPINCS.install-out.txt --library=/home/biocbuild/bbs-3.17-bioc/R/site-library --timings DeepPINCS_1.8.3.tar.gz StartedAt: 2023-10-15 20:39:52 -0400 (Sun, 15 Oct 2023) EndedAt: 2023-10-15 20:45:02 -0400 (Sun, 15 Oct 2023) EllapsedTime: 310.4 seconds RetCode: 0 Status: OK CheckDir: DeepPINCS.Rcheck Warnings: 0