Package: DeepPINCS Version: 1.8.3 Command: /home/biocbuild/bbs-3.17-bioc/R/bin/R CMD build --keep-empty-dirs --no-resave-data DeepPINCS StartedAt: 2023-10-15 16:32:10 -0400 (Sun, 15 Oct 2023) EndedAt: 2023-10-15 16:34:57 -0400 (Sun, 15 Oct 2023) EllapsedTime: 166.8 seconds RetCode: 0 Status: OK PackageFile: DeepPINCS_1.8.3.tar.gz PackageFileSize: 3.084 MiB