Package: DeepPINCS Version: 1.8.3 Command: /Library/Frameworks/R.framework/Resources/bin/R CMD build --keep-empty-dirs --no-resave-data DeepPINCS StartedAt: 2023-10-15 17:50:11 -0400 (Sun, 15 Oct 2023) EndedAt: 2023-10-15 17:57:31 -0400 (Sun, 15 Oct 2023) EllapsedTime: 439.8 seconds RetCode: 0 Status: OK PackageFile: DeepPINCS_1.8.3.tar.gz PackageFileSize: 3.088 MiB