Package: DeepPINCS Version: 1.8.3 Command: rm -rf DeepPINCS.buildbin-libdir && mkdir DeepPINCS.buildbin-libdir && /Users/biocbuild/BBS/utils/build-universal.sh DeepPINCS_1.8.3.tar.gz /Library/Frameworks/R.framework/Resources/bin/R DeepPINCS.buildbin-libdir StartedAt: 2023-10-16 09:15:40 -0400 (Mon, 16 Oct 2023) EndedAt: 2023-10-16 09:16:43 -0400 (Mon, 16 Oct 2023) EllapsedTime: 63.1 seconds RetCode: 0 Status: OK PackageFile: DeepPINCS_1.8.3.tgz PackageFileSize: 2.889 MiB