Package: DeconRNASeq Version: 1.42.0 Command: /Library/Frameworks/R.framework/Resources/bin/R CMD INSTALL DeconRNASeq StartedAt: 2023-10-15 15:14:53 -0400 (Sun, 15 Oct 2023) EndedAt: 2023-10-15 15:15:22 -0400 (Sun, 15 Oct 2023) EllapsedTime: 29.5 seconds RetCode: 0 Status: OK