Package: DeconRNASeq Version: 1.42.0 Command: rm -rf DeconRNASeq.buildbin-libdir && mkdir DeconRNASeq.buildbin-libdir && /Users/biocbuild/BBS/utils/build-universal.sh DeconRNASeq_1.42.0.tar.gz /Library/Frameworks/R.framework/Resources/bin/R DeconRNASeq.buildbin-libdir StartedAt: 2023-10-16 09:15:26 -0400 (Mon, 16 Oct 2023) EndedAt: 2023-10-16 09:15:51 -0400 (Mon, 16 Oct 2023) EllapsedTime: 25.1 seconds RetCode: 0 Status: OK PackageFile: DeconRNASeq_1.42.0.tgz PackageFileSize: 6.661 MiB