Package: DeMAND Version: 1.30.0 Command: chmod a+r DeMAND -R && F:\biocbuild\bbs-3.17-bioc\R\bin\R.exe CMD build --keep-empty-dirs --no-resave-data DeMAND StartedAt: 2023-10-15 18:41:13 -0400 (Sun, 15 Oct 2023) EndedAt: 2023-10-15 18:41:23 -0400 (Sun, 15 Oct 2023) EllapsedTime: 10.2 seconds RetCode: 0 Status: OK PackageFile: DeMAND_1.30.0.tar.gz PackageFileSize: 168.1 KiB