Package: DaMiRseq Version: 2.12.0 Command: F:\biocbuild\bbs-3.17-bioc\R\bin\R.exe CMD INSTALL DaMiRseq StartedAt: 2023-10-15 16:48:57 -0400 (Sun, 15 Oct 2023) EndedAt: 2023-10-15 16:50:06 -0400 (Sun, 15 Oct 2023) EllapsedTime: 68.7 seconds RetCode: 0 Status: OK