Package: DaMiRseq Version: 2.12.0 Command: F:\biocbuild\bbs-3.17-bioc\R\bin\R.exe CMD check --no-multiarch --install=check:DaMiRseq.install-out.txt --library=F:\biocbuild\bbs-3.17-bioc\R\library --no-vignettes --timings DaMiRseq_2.12.0.tar.gz StartedAt: 2023-10-16 01:14:25 -0400 (Mon, 16 Oct 2023) EndedAt: 2023-10-16 01:20:43 -0400 (Mon, 16 Oct 2023) EllapsedTime: 377.9 seconds RetCode: 0 Status: OK CheckDir: DaMiRseq.Rcheck Warnings: 0