Package: DaMiRseq Version: 2.12.0 Command: chmod a+r DaMiRseq -R && F:\biocbuild\bbs-3.17-bioc\R\bin\R.exe CMD build --keep-empty-dirs --no-resave-data DaMiRseq StartedAt: 2023-10-15 18:33:23 -0400 (Sun, 15 Oct 2023) EndedAt: 2023-10-15 18:41:13 -0400 (Sun, 15 Oct 2023) EllapsedTime: 469.6 seconds RetCode: 0 Status: OK PackageFile: DaMiRseq_2.12.0.tar.gz PackageFileSize: 4.221 MiB