Package: DaMiRseq Version: 2.12.0 Command: /home/biocbuild/bbs-3.17-bioc/R/bin/R CMD check --install=check:DaMiRseq.install-out.txt --library=/home/biocbuild/bbs-3.17-bioc/R/site-library --timings DaMiRseq_2.12.0.tar.gz StartedAt: 2023-10-15 20:36:02 -0400 (Sun, 15 Oct 2023) EndedAt: 2023-10-15 20:49:27 -0400 (Sun, 15 Oct 2023) EllapsedTime: 804.9 seconds RetCode: 0 Status: OK CheckDir: DaMiRseq.Rcheck Warnings: 0