Package: DaMiRseq Version: 2.12.0 Command: /home/biocbuild/bbs-3.17-bioc/R/bin/R CMD build --keep-empty-dirs --no-resave-data DaMiRseq StartedAt: 2023-10-15 16:30:48 -0400 (Sun, 15 Oct 2023) EndedAt: 2023-10-15 16:38:50 -0400 (Sun, 15 Oct 2023) EllapsedTime: 482.8 seconds RetCode: 0 Status: OK PackageFile: DaMiRseq_2.12.0.tar.gz PackageFileSize: 4.218 MiB