Package: DaMiRseq Version: 2.12.0 Command: /Library/Frameworks/R.framework/Resources/bin/R CMD INSTALL DaMiRseq StartedAt: 2023-10-15 16:13:30 -0400 (Sun, 15 Oct 2023) EndedAt: 2023-10-15 16:16:26 -0400 (Sun, 15 Oct 2023) EllapsedTime: 176.3 seconds RetCode: 0 Status: OK