Package: DaMiRseq Version: 2.12.0 Command: /Library/Frameworks/R.framework/Resources/bin/R CMD check --install=check:DaMiRseq.install-out.txt --library=/Library/Frameworks/R.framework/Resources/library --no-vignettes --timings DaMiRseq_2.12.0.tar.gz StartedAt: 2023-10-16 00:36:25 -0400 (Mon, 16 Oct 2023) EndedAt: 2023-10-16 00:52:18 -0400 (Mon, 16 Oct 2023) EllapsedTime: 953.1 seconds RetCode: 0 Status: OK CheckDir: DaMiRseq.Rcheck Warnings: 0