Package: DTA Version: 2.46.0 Command: rm -rf DTA.buildbin-libdir && mkdir DTA.buildbin-libdir && F:\biocbuild\bbs-3.17-bioc\R\bin\R.exe CMD INSTALL --build --library=DTA.buildbin-libdir DTA_2.46.0.tar.gz StartedAt: 2023-10-16 08:44:12 -0400 (Mon, 16 Oct 2023) EndedAt: 2023-10-16 08:44:28 -0400 (Mon, 16 Oct 2023) EllapsedTime: 16.0 seconds RetCode: 0 Status: OK PackageFile: DTA_2.46.0.zip PackageFileSize: 11.51 MiB