Package: DTA Version: 2.46.0 Command: /Library/Frameworks/R.framework/Resources/bin/R CMD build --keep-empty-dirs --no-resave-data DTA StartedAt: 2023-10-15 18:05:26 -0400 (Sun, 15 Oct 2023) EndedAt: 2023-10-15 18:18:43 -0400 (Sun, 15 Oct 2023) EllapsedTime: 797.0 seconds RetCode: 0 Status: OK PackageFile: DTA_2.46.0.tar.gz PackageFileSize: 10.68 MiB