Package: DSS Version: 2.48.0 Command: F:\biocbuild\bbs-3.17-bioc\R\bin\R.exe CMD INSTALL DSS StartedAt: 2023-10-15 16:14:59 -0400 (Sun, 15 Oct 2023) EndedAt: 2023-10-15 16:15:47 -0400 (Sun, 15 Oct 2023) EllapsedTime: 47.5 seconds RetCode: 0 Status: OK