Package: DSS Version: 2.48.0 Command: rm -rf DSS.buildbin-libdir && mkdir DSS.buildbin-libdir && F:\biocbuild\bbs-3.17-bioc\R\bin\R.exe CMD INSTALL --build --library=DSS.buildbin-libdir DSS_2.48.0.tar.gz StartedAt: 2023-10-16 08:44:07 -0400 (Mon, 16 Oct 2023) EndedAt: 2023-10-16 08:44:56 -0400 (Mon, 16 Oct 2023) EllapsedTime: 49.3 seconds RetCode: 0 Status: OK PackageFile: DSS_2.48.0.zip PackageFileSize: 1.605 MiB