Package: DSS Version: 2.48.0 Command: /home/biocbuild/bbs-3.17-bioc/R/bin/R CMD build --keep-empty-dirs --no-resave-data DSS StartedAt: 2023-10-15 16:39:47 -0400 (Sun, 15 Oct 2023) EndedAt: 2023-10-15 16:40:47 -0400 (Sun, 15 Oct 2023) EllapsedTime: 59.5 seconds RetCode: 0 Status: OK PackageFile: DSS_2.48.0.tar.gz PackageFileSize: 2.029 MiB