Package: DSS Version: 2.48.0 Command: rm -rf DSS.buildbin-libdir && mkdir DSS.buildbin-libdir && /Users/biocbuild/BBS/utils/build-universal.sh DSS_2.48.0.tar.gz /Library/Frameworks/R.framework/Resources/bin/R DSS.buildbin-libdir StartedAt: 2023-10-16 09:19:29 -0400 (Mon, 16 Oct 2023) EndedAt: 2023-10-16 09:21:37 -0400 (Mon, 16 Oct 2023) EllapsedTime: 128.3 seconds RetCode: 0 Status: OK PackageFile: DSS_2.48.0.tgz PackageFileSize: 1.6 MiB