git_url: https://git.bioconductor.org/packages/DSS git_branch: RELEASE_3_17 git_last_commit: 03ceee2 git_last_commit_date: 2023-04-25 10:23:19 -0400 (Tue, 25 Apr 2023) Package: DSS Version: 2.48.0 Maintainer: Hao Wu , Hao Feng MaintainerEmail: hxf155 at case.edu