Package: DRIMSeq Version: 1.28.0 Command: /home/biocbuild/bbs-3.17-bioc/R/bin/R CMD build --keep-empty-dirs --no-resave-data DRIMSeq StartedAt: 2023-10-15 16:39:35 -0400 (Sun, 15 Oct 2023) EndedAt: 2023-10-15 16:41:52 -0400 (Sun, 15 Oct 2023) EllapsedTime: 137.0 seconds RetCode: 0 Status: OK PackageFile: DRIMSeq_1.28.0.tar.gz PackageFileSize: 482.4 KiB