Package: DNAfusion Version: 1.2.0 Command: F:\biocbuild\bbs-3.17-bioc\R\bin\R.exe CMD check --no-multiarch --install=check:DNAfusion.install-out.txt --library=F:\biocbuild\bbs-3.17-bioc\R\library --no-vignettes --timings DNAfusion_1.2.0.tar.gz StartedAt: 2023-10-16 01:39:09 -0400 (Mon, 16 Oct 2023) EndedAt: 2023-10-16 01:46:38 -0400 (Mon, 16 Oct 2023) EllapsedTime: 448.7 seconds RetCode: 0 Status: OK CheckDir: DNAfusion.Rcheck Warnings: 0