Package: DNAfusion Version: 1.2.0 Command: /home/biocbuild/bbs-3.17-bioc/R/bin/R CMD INSTALL DNAfusion StartedAt: 2023-10-15 15:25:12 -0400 (Sun, 15 Oct 2023) EndedAt: 2023-10-15 15:25:47 -0400 (Sun, 15 Oct 2023) EllapsedTime: 35.3 seconds RetCode: 0 Status: OK