Package: DNAfusion Version: 1.2.0 Command: /home/biocbuild/bbs-3.17-bioc/R/bin/R CMD build --keep-empty-dirs --no-resave-data DNAfusion StartedAt: 2023-10-15 16:39:00 -0400 (Sun, 15 Oct 2023) EndedAt: 2023-10-15 16:41:47 -0400 (Sun, 15 Oct 2023) EllapsedTime: 166.4 seconds RetCode: 0 Status: OK PackageFile: DNAfusion_1.2.0.tar.gz PackageFileSize: 6.297 MiB