Package: DNAfusion Version: 1.2.0 Command: /Library/Frameworks/R.framework/Resources/bin/R CMD INSTALL DNAfusion StartedAt: 2023-10-15 15:42:59 -0400 (Sun, 15 Oct 2023) EndedAt: 2023-10-15 15:44:49 -0400 (Sun, 15 Oct 2023) EllapsedTime: 110.7 seconds RetCode: 0 Status: OK