Package: DNAfusion Version: 1.2.0 Command: /Library/Frameworks/R.framework/Resources/bin/R CMD build --keep-empty-dirs --no-resave-data DNAfusion StartedAt: 2023-10-15 18:02:10 -0400 (Sun, 15 Oct 2023) EndedAt: 2023-10-15 18:09:14 -0400 (Sun, 15 Oct 2023) EllapsedTime: 424.0 seconds RetCode: 0 Status: OK PackageFile: DNAfusion_1.2.0.tar.gz PackageFileSize: 6.297 MiB