Package: DNAcopy Version: 1.74.1 Command: chmod a+r DNAcopy -R && F:\biocbuild\bbs-3.17-bioc\R\bin\R.exe CMD build --keep-empty-dirs --no-resave-data DNAcopy StartedAt: 2023-10-15 18:48:59 -0400 (Sun, 15 Oct 2023) EndedAt: 2023-10-15 18:49:17 -0400 (Sun, 15 Oct 2023) EllapsedTime: 17.9 seconds RetCode: 0 Status: OK PackageFile: DNAcopy_1.74.1.tar.gz PackageFileSize: 295.8 KiB