Package: DNAcopy Version: 1.74.1 Command: /home/biocbuild/bbs-3.17-bioc/R/bin/R CMD check --install=check:DNAcopy.install-out.txt --library=/home/biocbuild/bbs-3.17-bioc/R/site-library --timings DNAcopy_1.74.1.tar.gz StartedAt: 2023-10-15 20:55:35 -0400 (Sun, 15 Oct 2023) EndedAt: 2023-10-15 20:55:59 -0400 (Sun, 15 Oct 2023) EllapsedTime: 24.3 seconds RetCode: 0 Status: OK CheckDir: DNAcopy.Rcheck Warnings: 0