Package: DNAcopy Version: 1.74.1 Command: /home/biocbuild/bbs-3.17-bioc/R/bin/R CMD build --keep-empty-dirs --no-resave-data DNAcopy StartedAt: 2023-10-15 16:38:52 -0400 (Sun, 15 Oct 2023) EndedAt: 2023-10-15 16:39:00 -0400 (Sun, 15 Oct 2023) EllapsedTime: 8.0 seconds RetCode: 0 Status: OK PackageFile: DNAcopy_1.74.1.tar.gz PackageFileSize: 294.3 KiB