Package: DNAcopy Version: 1.74.1 Command: /Library/Frameworks/R.framework/Resources/bin/R CMD INSTALL DNAcopy StartedAt: 2023-10-15 15:03:22 -0400 (Sun, 15 Oct 2023) EndedAt: 2023-10-15 15:03:39 -0400 (Sun, 15 Oct 2023) EllapsedTime: 17.1 seconds RetCode: 0 Status: OK