Package: DNAcopy Version: 1.74.1 Command: /Library/Frameworks/R.framework/Resources/bin/R CMD check --install=check:DNAcopy.install-out.txt --library=/Library/Frameworks/R.framework/Resources/library --no-vignettes --timings DNAcopy_1.74.1.tar.gz StartedAt: 2023-10-16 01:04:21 -0400 (Mon, 16 Oct 2023) EndedAt: 2023-10-16 01:05:26 -0400 (Mon, 16 Oct 2023) EllapsedTime: 64.6 seconds RetCode: 0 Status: OK CheckDir: DNAcopy.Rcheck Warnings: 0