Package: DNAcopy Version: 1.74.1 Command: /Library/Frameworks/R.framework/Resources/bin/R CMD build --keep-empty-dirs --no-resave-data DNAcopy StartedAt: 2023-10-15 18:02:02 -0400 (Sun, 15 Oct 2023) EndedAt: 2023-10-15 18:02:38 -0400 (Sun, 15 Oct 2023) EllapsedTime: 36.4 seconds RetCode: 0 Status: OK PackageFile: DNAcopy_1.74.1.tar.gz PackageFileSize: 408.5 KiB