Package: DNABarcodes Version: 1.30.0 Command: F:\biocbuild\bbs-3.17-bioc\R\bin\R.exe CMD INSTALL DNABarcodes StartedAt: 2023-10-15 16:35:37 -0400 (Sun, 15 Oct 2023) EndedAt: 2023-10-15 16:38:19 -0400 (Sun, 15 Oct 2023) EllapsedTime: 162.0 seconds RetCode: 0 Status: OK